BEGIN:VCALENDAR
VERSION:2.0
PRODID:-//Faculty of Applied Science &amp; Engineering - ECPv6.15.0.1//NONSGML v1.0//EN
CALSCALE:GREGORIAN
METHOD:PUBLISH
X-ORIGINAL-URL:https://www.engineering.utoronto.ca
X-WR-CALDESC:Events for Faculty of Applied Science &amp; Engineering
REFRESH-INTERVAL;VALUE=DURATION:PT1H
X-Robots-Tag:noindex
X-PUBLISHED-TTL:PT1H
BEGIN:VTIMEZONE
TZID:America/Toronto
BEGIN:DAYLIGHT
TZOFFSETFROM:-0500
TZOFFSETTO:-0400
TZNAME:EDT
DTSTART:20230312T070000
END:DAYLIGHT
BEGIN:STANDARD
TZOFFSETFROM:-0400
TZOFFSETTO:-0500
TZNAME:EST
DTSTART:20231105T060000
END:STANDARD
END:VTIMEZONE
BEGIN:VEVENT
DTSTART;VALUE=DATE:20230531
DTEND;VALUE=DATE:20230605
DTSTAMP:20260422T034246
CREATED:20230310T173609Z
LAST-MODIFIED:20230530T151711Z
UID:10000827-1685491200-1685923199@www.engineering.utoronto.ca
SUMMARY:U of T Alumni Reunion 2023
DESCRIPTION:OLD FRIENDS. NEW EXPERIENCES.\nCome bond with friends from your U of T days\, meet new people\, and learn cool stuff together. There are so many events to choose from\, including activities at your college or faculty and special events for anyone who graduated in a year ending in 3 or 8. Of course\, all U of T grads are invited to join us online or in person at Alumni Reunion 2023. \nUpdate your email to receive important news from U of T\, including an alert in late March 2023 when Alumni Reunion registration opens! \nUpdate Email Now \n\nStay tuned for more details on the U of T Alumni Reunion website\, and find U of T Engineering-specific events here.   \nRegistration is now open \n  \n\nEngineering Reunion Events\nSocial: Alumni Pub Social\nFriday\, June 2\, 2023\, 6:00 – 9:00 PM ET \nJoin fellow Engineering alumni to reconnect over food and drink while sharing stories from your Skule days. All years welcome. Ticket price includes one drink ticket\, food\, non-alcoholic beverages and more! \nLocation: Faculty Club\, 41 Willcocks St\, Toronto \nEarly Bird Price: $20 (until April 30) \nRegular Price: $25 (from May 1) \n  \nEngSci Social @ Departmental Open House\nSaturday\, June 3\, 2023\, 1:00 – 3:00 PM ET \nReconnect with your department or division and hear exciting updates from faculty and students. Each unit-including EngSci-will host their own open house; activities will include lab tours\, student displays and meeting with academic leaders and current students. Families welcome. \nLocation: Engineering Complex \nFree \n  \nDinner Dance\nSaturday\, June 3\, 2023\, 5:30 PM – 12:00 AM ET \nHonoured year alumni are invited to join us for an evening of dinner and dancing as we toast to milestone anniversaries and the lifelong connections made at U of T Engineering. Ticket price includes 3 course dinner\, 3 alcoholic beverages\, live music\, engineering memorabilia and more!  The cocktail reception begins at 6 pm\, and alumni are invited to arrive for 5:30 pm to hear an inspirational talk from Canadian business leader\, John Ruffolo\, who will share his incredible journey of resilience and how it inspired him to give back. \nSpecial Alumni Reunion hotel rate available until April 15\, subject to availability. \nLocation: Hyatt Regency Hotel \nEarly Bird Price: $100 (until April 30) \nRegular Price: $125 (from May 1)
URL:https://www.engineering.utoronto.ca/event/u-of-t-alumni-reunion-2023/
LOCATION:various
CATEGORIES:Alumni events
END:VEVENT
END:VCALENDAR